BEGIN:VCALENDAR
VERSION:2.0
PRODID:-//Sabre//Sabre VObject 4.5.8//EN
CALSCALE:GREGORIAN
BEGIN:VEVENT
UID:criticalmass-one-luebeck-1596819600
DTSTAMP:20260422T233756Z
SUMMARY:Critical Mass Lübeck 07.08.2020
DTSTART;TZID=Europe/Berlin:20200807T190000
DTEND;TZID=Europe/Berlin:20200807T210000
LOCATION:Bismarckdenkmal am Lindenteller
GEO:53.866624;10.673501
URL;VALUE=URI:https://criticalmass.in/luebeck/2020-08-07
END:VEVENT
END:VCALENDAR
