BEGIN:VCALENDAR
VERSION:2.0
PRODID:-//Sabre//Sabre VObject 4.5.8//EN
CALSCALE:GREGORIAN
BEGIN:VEVENT
UID:criticalmass-one-ludwigshafen-am-rhein-1770397200
DTSTAMP:20260423T131427Z
SUMMARY:Critical Mass Ludwigshafen 06.02.2026
DTSTART;TZID=Europe/Berlin:20260206T180000
DTEND;TZID=Europe/Berlin:20260206T200000
LOCATION:Pfalzbau
GEO:49.479718;8.446877
URL;VALUE=URI:https://criticalmass.in/ludwigshafen-am-rhein/2026-02-06
END:VEVENT
END:VCALENDAR
