BEGIN:VCALENDAR
VERSION:2.0
PRODID:-//Sabre//Sabre VObject 4.5.8//EN
CALSCALE:GREGORIAN
BEGIN:VEVENT
UID:criticalmass-one-ludwigshafen-am-rhein-1767373200
DTSTAMP:20260425T013253Z
SUMMARY:Critical Mass Ludwigshafen 02.01.2026
DTSTART;TZID=Europe/Berlin:20260102T180000
DTEND;TZID=Europe/Berlin:20260102T200000
LOCATION:Pfalzbau
GEO:49.479718;8.446877
URL;VALUE=URI:https://criticalmass.in/ludwigshafen-am-rhein/2026-01-02
END:VEVENT
END:VCALENDAR
