BEGIN:VCALENDAR
VERSION:2.0
PRODID:-//Sabre//Sabre VObject 4.5.8//EN
CALSCALE:GREGORIAN
BEGIN:VEVENT
UID:criticalmass-one-ludwigshafen-am-rhein-1751644800
DTSTAMP:20260425T131351Z
SUMMARY:Critical Mass Ludwigshafen 04.07.2025
DTSTART;TZID=Europe/Berlin:20250704T180000
DTEND;TZID=Europe/Berlin:20250704T200000
LOCATION:Pfalzbau
GEO:49.479718;8.446877
URL;VALUE=URI:https://criticalmass.in/ludwigshafen-am-rhein/2025-07-04
END:VEVENT
END:VCALENDAR
