BEGIN:VCALENDAR
VERSION:2.0
PRODID:-//Sabre//Sabre VObject 4.5.8//EN
CALSCALE:GREGORIAN
BEGIN:VEVENT
UID:criticalmass-one-ludwigshafen-am-rhein-1738947600
DTSTAMP:20260421T233128Z
SUMMARY:Critical Mass Ludwigshafen 07.02.2025
DTSTART;TZID=Europe/Berlin:20250207T180000
DTEND;TZID=Europe/Berlin:20250207T200000
LOCATION:Pfalzbau
GEO:49.479718;8.446877
URL;VALUE=URI:https://criticalmass.in/ludwigshafen-am-rhein/2025-02-07
END:VEVENT
END:VCALENDAR
