BEGIN:VCALENDAR
VERSION:2.0
PRODID:-//Sabre//Sabre VObject 4.5.8//EN
CALSCALE:GREGORIAN
BEGIN:VEVENT
UID:criticalmass-one-ludwigshafen-am-rhein-1733504400
DTSTAMP:20260425T131349Z
SUMMARY:Critical Mass Ludwigshafen 06.12.2024
DTSTART;TZID=Europe/Berlin:20241206T180000
DTEND;TZID=Europe/Berlin:20241206T200000
LOCATION:Pfalzbau
GEO:49.479718;8.446877
URL;VALUE=URI:https://criticalmass.in/ludwigshafen-am-rhein/2024-12-06
END:VEVENT
END:VCALENDAR
