BEGIN:VCALENDAR
VERSION:2.0
PRODID:-//Sabre//Sabre VObject 4.5.8//EN
CALSCALE:GREGORIAN
BEGIN:VEVENT
UID:criticalmass-one-ludwigshafen-am-rhein-1730480400
DTSTAMP:20260424T071207Z
SUMMARY:Critical Mass Ludwigshafen 01.11.2024
DTSTART;TZID=Europe/Berlin:20241101T180000
DTEND;TZID=Europe/Berlin:20241101T200000
LOCATION:Pfalzbau
GEO:49.479718;8.446877
URL;VALUE=URI:https://criticalmass.in/ludwigshafen-am-rhein/2024-11-01
END:VEVENT
END:VCALENDAR
