BEGIN:VCALENDAR
VERSION:2.0
PRODID:-//Sabre//Sabre VObject 4.5.8//EN
CALSCALE:GREGORIAN
BEGIN:VEVENT
UID:criticalmass-one-ludwigshafen-am-rhein-1725638400
DTSTAMP:20260424T132143Z
SUMMARY:Critical Mass Ludwigshafen September 2024
DESCRIPTION:Wie immer gute Laune am Start. Ein Liegedreirad und ein velomob
 il fuhren mit. Die aftermass halt beim Netzwerken.
DTSTART;TZID=Europe/Berlin:20240906T180000
DTEND;TZID=Europe/Berlin:20240906T200000
LOCATION:Pfalzbau Ludwigshafen
GEO:49.479725;8.446941
URL;VALUE=URI:https://criticalmass.in/ludwigshafen-am-rhein/2024-09-06
END:VEVENT
END:VCALENDAR
