BEGIN:VCALENDAR
VERSION:2.0
PRODID:-//Sabre//Sabre VObject 4.5.8//EN
CALSCALE:GREGORIAN
BEGIN:VEVENT
UID:criticalmass-one-ludwigshafen-am-rhein-1717776000
DTSTAMP:20260423T131428Z
SUMMARY:Critical Mass Ludwigshafen 07.06.2024
DTSTART;TZID=Europe/Berlin:20240607T180000
DTEND;TZID=Europe/Berlin:20240607T200000
LOCATION:Pfalzbau
GEO:49.479718;8.446877
URL;VALUE=URI:https://criticalmass.in/ludwigshafen-am-rhein/2024-06-07
END:VEVENT
END:VCALENDAR
