BEGIN:VCALENDAR
VERSION:2.0
PRODID:-//Sabre//Sabre VObject 4.5.8//EN
CALSCALE:GREGORIAN
BEGIN:VEVENT
UID:criticalmass-one-ludwigshafen-am-rhein-1691164800
DTSTAMP:20260426T013419Z
SUMMARY:Critical Mass Ludwigshafen 04.08.2023
DTSTART;TZID=Europe/Berlin:20230804T180000
DTEND;TZID=Europe/Berlin:20230804T200000
LOCATION:Pfalzbau
GEO:49.479718;8.446877
URL;VALUE=URI:https://criticalmass.in/ludwigshafen-am-rhein/2023-08-04
END:VEVENT
END:VCALENDAR
