BEGIN:VCALENDAR
VERSION:2.0
PRODID:-//Sabre//Sabre VObject 4.5.8//EN
CALSCALE:GREGORIAN
BEGIN:VEVENT
UID:criticalmass-one-ludwigshafen-am-rhein-1688832000
DTSTAMP:20260423T131426Z
SUMMARY:Critical Mass Ludwigshafen 04.08.2023
DESCRIPTION:Gemütlich im Verband durch Ludwigshafen mit Abschluss beim Tor
 re da Angelo. Auf ein Eis\, ein Getränk oder zum Essen. Wir fahren etwa e
 ine Stunde.
DTSTART;TZID=Europe/Berlin:20230708T180000
DTEND;TZID=Europe/Berlin:20230708T200000
LOCATION:Pfalzbau Ludwigshafen
GEO:49.479780;8.446898
URL;VALUE=URI:https://criticalmass.in/ludwigshafen-am-rhein/2023-07-08
END:VEVENT
END:VCALENDAR
