BEGIN:VCALENDAR
VERSION:2.0
PRODID:-//Sabre//Sabre VObject 4.5.8//EN
CALSCALE:GREGORIAN
BEGIN:VEVENT
UID:criticalmass-one-ludwigshafen-am-rhein-1680883200
DTSTAMP:20260424T051541Z
SUMMARY:Critical Mass Ludwigshafen 07.04.2023
DTSTART;TZID=Europe/Berlin:20230407T180000
DTEND;TZID=Europe/Berlin:20230407T200000
LOCATION:Pfalzbau
GEO:49.479718;8.446877
URL;VALUE=URI:https://criticalmass.in/ludwigshafen-am-rhein/2023-04-07
END:VEVENT
END:VCALENDAR
