BEGIN:VCALENDAR
VERSION:2.0
PRODID:-//Sabre//Sabre VObject 4.5.8//EN
CALSCALE:GREGORIAN
BEGIN:VEVENT
UID:criticalmass-one-ludwigshafen-am-rhein-1665158400
DTSTAMP:20260423T233419Z
SUMMARY:Critical Mass Ludwigshafen 07.10.2022
DTSTART;TZID=Europe/Berlin:20221007T180000
DTEND;TZID=Europe/Berlin:20221007T200000
LOCATION:Pfalzbau
GEO:49.479718;8.446877
URL;VALUE=URI:https://criticalmass.in/ludwigshafen-am-rhein/2022-10-07
END:VEVENT
END:VCALENDAR
