BEGIN:VCALENDAR
VERSION:2.0
PRODID:-//Sabre//Sabre VObject 4.5.8//EN
CALSCALE:GREGORIAN
BEGIN:VEVENT
UID:criticalmass-one-ludwigshafen-am-rhein-1662134400
DTSTAMP:20260423T191405Z
SUMMARY:Critical Mass Ludwigshafen 02.09.2022
DTSTART;TZID=Europe/Berlin:20220902T180000
DTEND;TZID=Europe/Berlin:20220902T200000
LOCATION:Pfalzbau
GEO:49.479718;8.446877
URL;VALUE=URI:https://criticalmass.in/ludwigshafen-am-rhein/2022-09-02
END:VEVENT
END:VCALENDAR
