BEGIN:VCALENDAR
VERSION:2.0
PRODID:-//Sabre//Sabre VObject 4.5.8//EN
CALSCALE:GREGORIAN
BEGIN:VEVENT
UID:criticalmass-one-ludwigshafen-am-rhein-1656691200
DTSTAMP:20260424T071111Z
SUMMARY:Critical Mass Ludwigshafen 01.07.2022
DTSTART;TZID=Europe/Berlin:20220701T180000
DTEND;TZID=Europe/Berlin:20220701T200000
LOCATION:Pfalzbau
GEO:49.479718;8.446877
URL;VALUE=URI:https://criticalmass.in/ludwigshafen-am-rhein/2022-07-01
END:VEVENT
END:VCALENDAR
