BEGIN:VCALENDAR
VERSION:2.0
PRODID:-//Sabre//Sabre VObject 4.5.8//EN
CALSCALE:GREGORIAN
BEGIN:VEVENT
UID:criticalmass-one-ludwigshafen-am-rhein-1609520400
DTSTAMP:20260423T131430Z
SUMMARY:Critical Mass Ludwigshafen 01.01.2021
DTSTART;TZID=Europe/Berlin:20210101T180000
DTEND;TZID=Europe/Berlin:20210101T200000
LOCATION:Pfalzbau
GEO:49.479718;8.446877
URL;VALUE=URI:https://criticalmass.in/ludwigshafen-am-rhein/2021-01-01
END:VEVENT
END:VCALENDAR
