BEGIN:VCALENDAR
VERSION:2.0
PRODID:-//Sabre//Sabre VObject 4.5.8//EN
CALSCALE:GREGORIAN
BEGIN:VEVENT
UID:criticalmass-one-ludwigshafen-am-rhein-1601654400
DTSTAMP:20260423T192241Z
SUMMARY:Critical Mass Ludwigshafen 02.10.2020
DTSTART;TZID=Europe/Berlin:20201002T180000
DTEND;TZID=Europe/Berlin:20201002T200000
LOCATION:Pfalzbau
GEO:49.479718;8.446877
URL;VALUE=URI:https://criticalmass.in/ludwigshafen-am-rhein/2020-10-02
END:VEVENT
END:VCALENDAR
