BEGIN:VCALENDAR
VERSION:2.0
PRODID:-//Sabre//Sabre VObject 4.5.8//EN
CALSCALE:GREGORIAN
BEGIN:VEVENT
UID:criticalmass-one-ludwigshafen-am-rhein-1599235200
DTSTAMP:20260423T191310Z
SUMMARY:Critical Mass Ludwigshafen 04.09.2020
DTSTART;TZID=Europe/Berlin:20200904T180000
DTEND;TZID=Europe/Berlin:20200904T200000
LOCATION:Pfalzbau
GEO:49.479718;8.446877
URL;VALUE=URI:https://criticalmass.in/ludwigshafen-am-rhein/2020-09-04
END:VEVENT
END:VCALENDAR
