BEGIN:VCALENDAR
VERSION:2.0
PRODID:-//Sabre//Sabre VObject 4.5.8//EN
CALSCALE:GREGORIAN
BEGIN:VEVENT
UID:criticalmass-one-ludwigshafen-am-rhein-1593792000
DTSTAMP:20260423T191306Z
SUMMARY:Critical Mass Ludwigshafen 03.07.2020
DTSTART;TZID=Europe/Berlin:20200703T180000
DTEND;TZID=Europe/Berlin:20200703T200000
LOCATION:Pfalzbau
GEO:49.479718;8.446877
URL;VALUE=URI:https://criticalmass.in/ludwigshafen-am-rhein/2020-07-03
END:VEVENT
END:VCALENDAR
