BEGIN:VCALENDAR
VERSION:2.0
PRODID:-//Sabre//Sabre VObject 4.5.8//EN
CALSCALE:GREGORIAN
BEGIN:VEVENT
UID:criticalmass-one-ludwigshafen-am-rhein-1591372800
DTSTAMP:20260423T174721Z
SUMMARY:Critical Mass Ludwigshafen 05.06.2020
DTSTART;TZID=Europe/Berlin:20200605T180000
DTEND;TZID=Europe/Berlin:20200605T200000
LOCATION:Pfalzbau
GEO:49.479718;8.446877
URL;VALUE=URI:https://criticalmass.in/ludwigshafen-am-rhein/2020-06-05
END:VEVENT
END:VCALENDAR
