BEGIN:VCALENDAR
VERSION:2.0
PRODID:-//Sabre//Sabre VObject 4.5.8//EN
CALSCALE:GREGORIAN
BEGIN:VEVENT
UID:criticalmass-one-ludwigsburg-1758360600
DTSTAMP:20260424T115222Z
SUMMARY:Kidical Mass Ludwigsburg 20.09.2025
DESCRIPTION:Bunte Fahrraddemo durch Ludwigsburg zum Kinderfest auf dem Plat
 z der Kinderrechte mit Spiel\, Spaß und Eiswagen :)
DTSTART;TZID=Europe/Berlin:20250920T113000
DTEND;TZID=Europe/Berlin:20250920T133000
LOCATION:Ludwigsburg Akademiehof
GEO:48.893741;9.193000
URL;VALUE=URI:https://criticalmass.in/ludwigsburg/kidical-mass-ludwigsburg-
 september-2025
END:VEVENT
END:VCALENDAR
