BEGIN:VCALENDAR
VERSION:2.0
PRODID:-//Sabre//Sabre VObject 4.5.8//EN
CALSCALE:GREGORIAN
BEGIN:VEVENT
UID:criticalmass-one-ludwigsburg-1664110800
DTSTAMP:20260424T115155Z
SUMMARY:Kidical Mass Ludwigsburg 25.09.2022
DTSTART;TZID=Europe/Berlin:20220925T150000
DTEND;TZID=Europe/Berlin:20220925T170000
LOCATION:Akademiehof
GEO:48.893449;9.192906
URL;VALUE=URI:https://criticalmass.in/ludwigsburg/kidical-mass-ludwigsburg-
 september-2022
END:VEVENT
END:VCALENDAR
