BEGIN:VCALENDAR
VERSION:2.0
PRODID:-//Sabre//Sabre VObject 4.5.8//EN
CALSCALE:GREGORIAN
BEGIN:VEVENT
UID:criticalmass-one-ludwigsburg-1714910400
DTSTAMP:20260424T115128Z
SUMMARY:Kidical Mass Ludwigsburg 05.05.2024
DESCRIPTION:Buntes Programm nach Zieleinfahrt
DTSTART;TZID=Europe/Berlin:20240505T140000
DTEND;TZID=Europe/Berlin:20240505T160000
LOCATION:Ludwigsburg Akademiehof
GEO:48.893741;9.193000
URL;VALUE=URI:https://criticalmass.in/ludwigsburg/kidical-mass-ludwigsburg-
 mai-2024
END:VEVENT
END:VCALENDAR
