BEGIN:VCALENDAR
VERSION:2.0
PRODID:-//Sabre//Sabre VObject 4.5.8//EN
CALSCALE:GREGORIAN
BEGIN:VEVENT
UID:criticalmass-one-ludwigsburg-1683376200
DTSTAMP:20260424T053719Z
SUMMARY:Kidical Mass Ludwigsburg 06.05.2023
DTSTART;TZID=Europe/Berlin:20230506T143000
DTEND;TZID=Europe/Berlin:20230506T163000
LOCATION:Akademiehof
GEO:48.893741;9.193000
URL;VALUE=URI:https://criticalmass.in/ludwigsburg/kidical-mass-ludwigsburg-
 mai-2023
END:VEVENT
END:VCALENDAR
