BEGIN:VCALENDAR
VERSION:2.0
PRODID:-//Sabre//Sabre VObject 4.5.8//EN
CALSCALE:GREGORIAN
BEGIN:VEVENT
UID:criticalmass-one-ludwigsburg-1652535000
DTSTAMP:20260424T041121Z
SUMMARY:Kidical Mass Ludwigsburg 14.05.2022
DTSTART;TZID=Europe/Berlin:20220514T153000
DTEND;TZID=Europe/Berlin:20220514T173000
LOCATION:Akademiehof
GEO:48.893971;9.192150
URL;VALUE=URI:https://criticalmass.in/ludwigsburg/kidical-mass-ludwigsburg-
 mai-2022
END:VEVENT
END:VCALENDAR
