BEGIN:VCALENDAR
VERSION:2.0
PRODID:-//Sabre//Sabre VObject 4.5.8//EN
CALSCALE:GREGORIAN
BEGIN:VEVENT
UID:criticalmass-one-ludwigsburg-1799343000
DTSTAMP:20260424T190050Z
SUMMARY:CM LB 07.01.2027
DTSTART;TZID=Europe/Berlin:20270107T183000
DTEND;TZID=Europe/Berlin:20270107T203000
LOCATION:Akademiehof
GEO:48.893573;9.192617
URL;VALUE=URI:https://criticalmass.in/ludwigsburg/2027-01-07
END:VEVENT
END:VCALENDAR
