BEGIN:VCALENDAR
VERSION:2.0
PRODID:-//Sabre//Sabre VObject 4.5.8//EN
CALSCALE:GREGORIAN
BEGIN:VEVENT
UID:criticalmass-one-ludwigsburg-1767288600
DTSTAMP:20260425T215016Z
SUMMARY:CM LB 01.01.2026
DTSTART;TZID=Europe/Berlin:20260101T183000
DTEND;TZID=Europe/Berlin:20260101T203000
LOCATION:Akademiehof
GEO:48.893573;9.192617
URL;VALUE=URI:https://criticalmass.in/ludwigsburg/2026-01-01
END:VEVENT
END:VCALENDAR
