BEGIN:VCALENDAR
VERSION:2.0
PRODID:-//Sabre//Sabre VObject 4.5.8//EN
CALSCALE:GREGORIAN
BEGIN:VEVENT
UID:criticalmass-one-ludwigsburg-1749141000
DTSTAMP:20260425T140801Z
SUMMARY:CM LB 05.06.2025
DTSTART;TZID=Europe/Berlin:20250605T183000
DTEND;TZID=Europe/Berlin:20250605T203000
LOCATION:Akademiehof
GEO:48.893573;9.192617
URL;VALUE=URI:https://criticalmass.in/ludwigsburg/2025-06-05
END:VEVENT
END:VCALENDAR
