BEGIN:VCALENDAR
VERSION:2.0
PRODID:-//Sabre//Sabre VObject 4.5.8//EN
CALSCALE:GREGORIAN
BEGIN:VEVENT
UID:criticalmass-one-ludwigsburg-1746117000
DTSTAMP:20260425T123105Z
SUMMARY:CM LB 01.05.2025
DTSTART;TZID=Europe/Berlin:20250501T183000
DTEND;TZID=Europe/Berlin:20250501T203000
LOCATION:Akademiehof
GEO:48.893573;9.192617
URL;VALUE=URI:https://criticalmass.in/ludwigsburg/2025-05-01
END:VEVENT
END:VCALENDAR
