BEGIN:VCALENDAR
VERSION:2.0
PRODID:-//Sabre//Sabre VObject 4.5.8//EN
CALSCALE:GREGORIAN
BEGIN:VEVENT
UID:criticalmass-one-ludwigsburg-1743697800
DTSTAMP:20260425T034531Z
SUMMARY:CM LB 03.04.2025
DTSTART;TZID=Europe/Berlin:20250403T183000
DTEND;TZID=Europe/Berlin:20250403T203000
LOCATION:Akademiehof
GEO:48.893573;9.192617
URL;VALUE=URI:https://criticalmass.in/ludwigsburg/2025-04-03
END:VEVENT
END:VCALENDAR
