BEGIN:VCALENDAR
VERSION:2.0
PRODID:-//Sabre//Sabre VObject 4.5.8//EN
CALSCALE:GREGORIAN
BEGIN:VEVENT
UID:criticalmass-one-ludwigsburg-1727973000
DTSTAMP:20260425T034543Z
SUMMARY:CM LB 03.10.2024
DTSTART;TZID=Europe/Berlin:20241003T183000
DTEND;TZID=Europe/Berlin:20241003T203000
LOCATION:Akademiehof
GEO:48.893573;9.192617
URL;VALUE=URI:https://criticalmass.in/ludwigsburg/2024-10-03
END:VEVENT
END:VCALENDAR
