BEGIN:VCALENDAR
VERSION:2.0
PRODID:-//Sabre//Sabre VObject 4.5.8//EN
CALSCALE:GREGORIAN
BEGIN:VEVENT
UID:criticalmass-one-ludwigsburg-1725553800
DTSTAMP:20260425T035005Z
SUMMARY:CM LB 05.09.2024
DTSTART;TZID=Europe/Berlin:20240905T183000
DTEND;TZID=Europe/Berlin:20240905T203000
LOCATION:Akademiehof
GEO:48.893573;9.192617
URL;VALUE=URI:https://criticalmass.in/ludwigsburg/2024-09-05
END:VEVENT
END:VCALENDAR
