BEGIN:VCALENDAR
VERSION:2.0
PRODID:-//Sabre//Sabre VObject 4.5.8//EN
CALSCALE:GREGORIAN
BEGIN:VEVENT
UID:criticalmass-one-ludwigsburg-1715356800
DTSTAMP:20260424T052833Z
SUMMARY:Critical Mass Ludwigsburg 10.05.2024
DTSTART;TZID=Europe/Berlin:20240510T180000
DTEND;TZID=Europe/Berlin:20240510T200000
LOCATION:Friedrich-Ebert-Straße\, gegenüber Forum\, beim Kiosk
URL;VALUE=URI:https://criticalmass.in/ludwigsburg/2024-05-10
END:VEVENT
END:VCALENDAR
