BEGIN:VCALENDAR
VERSION:2.0
PRODID:-//Sabre//Sabre VObject 4.5.8//EN
CALSCALE:GREGORIAN
BEGIN:VEVENT
UID:criticalmass-one-ludwigsburg-1707498000
DTSTAMP:20260425T010914Z
SUMMARY:Critical Mass Ludwigsburg 09.02.2024
DTSTART;TZID=Europe/Berlin:20240209T180000
DTEND;TZID=Europe/Berlin:20240209T200000
LOCATION:Friedrich-Ebert-Straße\, gegenüber Forum\, beim Kiosk
URL;VALUE=URI:https://criticalmass.in/ludwigsburg/2024-02-09
END:VEVENT
END:VCALENDAR
