BEGIN:VCALENDAR
VERSION:2.0
PRODID:-//Sabre//Sabre VObject 4.5.8//EN
CALSCALE:GREGORIAN
BEGIN:VEVENT
UID:criticalmass-one-ludwigsburg-1691769600
DTSTAMP:20260426T010900Z
SUMMARY:Critical Mass Ludwigsburg 11.08.2023
DTSTART;TZID=Europe/Berlin:20230811T180000
DTEND;TZID=Europe/Berlin:20230811T200000
LOCATION:Friedrich-Ebert-Straße\, gegenüber Forum\, beim Kiosk
URL;VALUE=URI:https://criticalmass.in/ludwigsburg/2023-08-11
END:VEVENT
END:VCALENDAR
