BEGIN:VCALENDAR
VERSION:2.0
PRODID:-//Sabre//Sabre VObject 4.5.8//EN
CALSCALE:GREGORIAN
BEGIN:VEVENT
UID:criticalmass-one-ludwigsburg-1689350400
DTSTAMP:20260425T034528Z
SUMMARY:Critical Mass Ludwigsburg 14.07.2023
DTSTART;TZID=Europe/Berlin:20230714T180000
DTEND;TZID=Europe/Berlin:20230714T200000
LOCATION:Friedrich-Ebert-Straße\, gegenüber Forum\, beim Kiosk
URL;VALUE=URI:https://criticalmass.in/ludwigsburg/2023-07-14
END:VEVENT
END:VCALENDAR
