BEGIN:VCALENDAR
VERSION:2.0
PRODID:-//Sabre//Sabre VObject 4.5.8//EN
CALSCALE:GREGORIAN
BEGIN:VEVENT
UID:criticalmass-one-ludwigsburg-1678467600
DTSTAMP:20260425T110845Z
SUMMARY:Critical Mass Ludwigsburg 10.03.2023
DTSTART;TZID=Europe/Berlin:20230310T180000
DTEND;TZID=Europe/Berlin:20230310T200000
LOCATION:Friedrich-Ebert-Straße\, gegenüber Forum\, beim Kiosk
URL;VALUE=URI:https://criticalmass.in/ludwigsburg/2023-03-10
END:VEVENT
END:VCALENDAR
