BEGIN:VCALENDAR
VERSION:2.0
PRODID:-//Sabre//Sabre VObject 4.5.8//EN
CALSCALE:GREGORIAN
BEGIN:VEVENT
UID:criticalmass-one-ludwigsburg-1652457600
DTSTAMP:20260425T034543Z
SUMMARY:Critical Mass Ludwigsburg 13.05.2022
DTSTART;TZID=Europe/Berlin:20220513T180000
DTEND;TZID=Europe/Berlin:20220513T200000
LOCATION:Friedrich-Ebert-Straße\, gegenüber Forum\, beim Kiosk
URL;VALUE=URI:https://criticalmass.in/ludwigsburg/2022-05-13
END:VEVENT
END:VCALENDAR
