BEGIN:VCALENDAR
VERSION:2.0
PRODID:-//Sabre//Sabre VObject 4.5.8//EN
CALSCALE:GREGORIAN
BEGIN:VEVENT
UID:criticalmass-one-ludwigsburg-1642179600
DTSTAMP:20260424T221136Z
SUMMARY:Critical Mass Ludwigsburg 14.01.2022
DTSTART;TZID=Europe/Berlin:20220114T180000
DTEND;TZID=Europe/Berlin:20220114T200000
LOCATION:Friedrich-Ebert-Straße\, gegenüber Forum\, beim Kiosk
URL;VALUE=URI:https://criticalmass.in/ludwigsburg/2022-01-14
END:VEVENT
END:VCALENDAR
