BEGIN:VCALENDAR
VERSION:2.0
PRODID:-//Sabre//Sabre VObject 4.5.8//EN
CALSCALE:GREGORIAN
BEGIN:VEVENT
UID:criticalmass-one-ludwigsburg-1639155600
DTSTAMP:20260424T082351Z
SUMMARY:Critical Mass Ludwigsburg 10.12.2021
DTSTART;TZID=Europe/Berlin:20211210T180000
DTEND;TZID=Europe/Berlin:20211210T200000
LOCATION:Friedrich-Ebert-Straße\, gegenüber Forum\, beim Kiosk
URL;VALUE=URI:https://criticalmass.in/ludwigsburg/2021-12-10
END:VEVENT
END:VCALENDAR
