BEGIN:VCALENDAR
VERSION:2.0
PRODID:-//Sabre//Sabre VObject 4.5.8//EN
CALSCALE:GREGORIAN
BEGIN:VEVENT
UID:criticalmass-one-ludwigsburg-1631289600
DTSTAMP:20260425T154102Z
SUMMARY:Critical Mass Ludwigsburg 10.09.2021
DTSTART;TZID=Europe/Berlin:20210910T180000
DTEND;TZID=Europe/Berlin:20210910T200000
LOCATION:Friedrich-Ebert-Straße\, gegenüber Forum\, beim Kiosk
URL;VALUE=URI:https://criticalmass.in/ludwigsburg/2021-09-10
END:VEVENT
END:VCALENDAR
