BEGIN:VCALENDAR
VERSION:2.0
PRODID:-//Sabre//Sabre VObject 4.5.8//EN
CALSCALE:GREGORIAN
BEGIN:VEVENT
UID:criticalmass-one-ludwigsburg-1599840000
DTSTAMP:20260424T181636Z
SUMMARY:Critical Mass Ludwigsburg 11.09.2020
DTSTART;TZID=Europe/Berlin:20200911T180000
DTEND;TZID=Europe/Berlin:20200911T200000
LOCATION:Friedrich-Ebert-Straße\, gegenüber Forum\, beim Kiosk
URL;VALUE=URI:https://criticalmass.in/ludwigsburg/2020-09-11
END:VEVENT
END:VCALENDAR
