BEGIN:VCALENDAR
VERSION:2.0
PRODID:-//Sabre//Sabre VObject 4.5.8//EN
CALSCALE:GREGORIAN
BEGIN:VEVENT
UID:criticalmass-one-ludwigsburg-1549645200
DTSTAMP:20260424T164911Z
SUMMARY:Nächste: Freitag\, 8.2.2019
DESCRIPTION:Eine Stunde CM durch Ludwigsburg.
DTSTART;TZID=Europe/Berlin:20190208T180000
DTEND;TZID=Europe/Berlin:20190208T200000
LOCATION:Friedrich-Ebert-Straße\, gegenüber Forum\, in der Nähe zur Kreu
 zung Stuttgarter Straße
URL;VALUE=URI:https://criticalmass.in/ludwigsburg/2019-02-08
END:VEVENT
END:VCALENDAR
