BEGIN:VCALENDAR
VERSION:2.0
PRODID:-//Sabre//Sabre VObject 4.5.8//EN
CALSCALE:GREGORIAN
BEGIN:VEVENT
UID:criticalmass-one-ludwigsburg-1544806800
DTSTAMP:20260423T114020Z
SUMMARY:Critical Mass Ludwigsburg 14.12.2018
DTSTART;TZID=Europe/Berlin:20181214T180000
DTEND;TZID=Europe/Berlin:20181214T200000
LOCATION:Imbiss am Forum
GEO:48.893287;9.194747
URL;VALUE=URI:https://criticalmass.in/ludwigsburg/2018-12-14
END:VEVENT
END:VCALENDAR
