BEGIN:VCALENDAR
VERSION:2.0
PRODID:-//Sabre//Sabre VObject 4.5.8//EN
CALSCALE:GREGORIAN
BEGIN:VEVENT
UID:criticalmass-one-lubbecke-1652533200
DTSTAMP:20260425T145027Z
SUMMARY:Kidical Mass Lübbecke 14.05.2022
DTSTART;TZID=Europe/Berlin:20220514T150000
DTEND;TZID=Europe/Berlin:20220514T170000
LOCATION:Markt
GEO:52.287624;8.917568
URL;VALUE=URI:https://criticalmass.in/lubbecke/kidical-mass-lubbecke-mai-20
 22
END:VEVENT
END:VCALENDAR
