BEGIN:VCALENDAR
VERSION:2.0
PRODID:-//Sabre//Sabre VObject 4.5.8//EN
CALSCALE:GREGORIAN
BEGIN:VEVENT
UID:criticalmass-one-lubbecke-1748779200
DTSTAMP:20260425T182634Z
SUMMARY:Kidical Mass Lübbecke 01.06.2025
DESCRIPTION:Streckenverlauf:\n\n14:00 Uhr Start am Freibadpark. Wir fahren 
 ca. 2\,5 km bis zur Stadthalle\n\nCa. 14:45 – 15:00 Uhr Zwischenstopp an
  der Stadthalle\, für alle\, die sich erst hier anschließen möchten.\n\
 nCa. 15:00 – 15:15 Uhr Zwischenstopp an der Grundschule im kleinen Feld 
 nach insgesamt 3\,1 km\n\nCa. 15:45 Uhr sind wir nach insgesamt 4\,1 km am
  Ziel auf dem Hinterhof am alten Amtsgericht.Am Ziel im Hinterhof des Alte
 n Amtsgericht in Lübbecke werden die Teilnehmenden von den Landfrauen mit
  frischen Waffeln und Getränken versorgt. Um eine kleine Spende für den 
 Unterhalt der Lastenräder wird gebeten.
DTSTART;TZID=Europe/Berlin:20250601T140000
DTEND;TZID=Europe/Berlin:20250601T160000
LOCATION:Lübbecke Freibadpark
GEO:52.299964;8.604745
URL;VALUE=URI:https://criticalmass.in/lubbecke/kidical-mass-lubbecke-juni-2
 025
END:VEVENT
END:VCALENDAR
