BEGIN:VCALENDAR
VERSION:2.0
PRODID:-//Sabre//Sabre VObject 4.5.8//EN
CALSCALE:GREGORIAN
BEGIN:VEVENT
UID:criticalmass-one-louisville-1769868000
DTSTAMP:20260421T170101Z
SUMMARY:Alex Pretti Memorial Ride — Parkside Bikes
DESCRIPTION:Meet at Trellis Brewing this Saturday at 2 p.m. for a 2:30 p.m.
  roll-out. 
DTSTART;TZID=America/Kentucky/Louisville:20260131T090000
DTEND;TZID=America/Kentucky/Louisville:20260131T110000
LOCATION:Trellis Brewing\, Louisville
GEO:38.240420;-85.738177
URL;VALUE=URI:https://criticalmass.in/louisville/alex-pretti-memorial-ride-
 louisville-2026-01-31
END:VEVENT
END:VCALENDAR
