BEGIN:VCALENDAR
VERSION:2.0
PRODID:-//Sabre//Sabre VObject 4.5.8//EN
CALSCALE:GREGORIAN
BEGIN:VEVENT
UID:criticalmass-one-loerrach-1700845200
DTSTAMP:20260424T030319Z
SUMMARY:Critical Mass Lörrach 24.11.2023
DTSTART;TZID=Europe/Berlin:20231124T180000
DTEND;TZID=Europe/Berlin:20231124T200000
LOCATION:Velö Einstellhalle
GEO:47.614966;7.665807
URL;VALUE=URI:https://criticalmass.in/loerrach/2023-11-24
END:VEVENT
END:VCALENDAR
