BEGIN:VCALENDAR
VERSION:2.0
PRODID:-//Sabre//Sabre VObject 4.5.8//EN
CALSCALE:GREGORIAN
BEGIN:VEVENT
UID:criticalmass-one-loerrach-1690560000
DTSTAMP:20260424T012614Z
SUMMARY:Critical Mass Lörrach 28.07.2023
DTSTART;TZID=Europe/Berlin:20230728T180000
DTEND;TZID=Europe/Berlin:20230728T200000
LOCATION:Velö Einstellhalle
GEO:47.614966;7.665807
URL;VALUE=URI:https://criticalmass.in/loerrach/2023-07-28
END:VEVENT
END:VCALENDAR
