BEGIN:VCALENDAR
VERSION:2.0
PRODID:-//Sabre//Sabre VObject 4.5.8//EN
CALSCALE:GREGORIAN
BEGIN:VEVENT
UID:criticalmass-one-loerrach-1622217600
DTSTAMP:20260423T144414Z
SUMMARY:Critical Mass Lörrach 28.05.2021
DTSTART;TZID=Europe/Berlin:20210528T180000
DTEND;TZID=Europe/Berlin:20210528T200000
LOCATION:Velö Einstellhalle
GEO:47.614966;7.665807
URL;VALUE=URI:https://criticalmass.in/loerrach/2021-05-28
END:VEVENT
END:VCALENDAR
